BEGIN:VCALENDAR
VERSION:2.0
PRODID:-//Ridge Meadows Quilters&#039; Guild - ECPv6.15.13//NONSGML v1.0//EN
CALSCALE:GREGORIAN
METHOD:PUBLISH
X-ORIGINAL-URL:https://rmqg.ca
X-WR-CALDESC:Events for Ridge Meadows Quilters&#039; Guild
REFRESH-INTERVAL;VALUE=DURATION:PT1H
X-Robots-Tag:noindex
X-PUBLISHED-TTL:PT1H
BEGIN:VTIMEZONE
TZID:America/Vancouver
BEGIN:DAYLIGHT
TZOFFSETFROM:-0800
TZOFFSETTO:-0700
TZNAME:PDT
DTSTART:20220313T100000
END:DAYLIGHT
BEGIN:STANDARD
TZOFFSETFROM:-0700
TZOFFSETTO:-0800
TZNAME:PST
DTSTART:20221106T090000
END:STANDARD
BEGIN:DAYLIGHT
TZOFFSETFROM:-0800
TZOFFSETTO:-0700
TZNAME:PDT
DTSTART:20230312T100000
END:DAYLIGHT
BEGIN:STANDARD
TZOFFSETFROM:-0700
TZOFFSETTO:-0800
TZNAME:PST
DTSTART:20231105T090000
END:STANDARD
BEGIN:DAYLIGHT
TZOFFSETFROM:-0800
TZOFFSETTO:-0700
TZNAME:PDT
DTSTART:20240310T100000
END:DAYLIGHT
BEGIN:STANDARD
TZOFFSETFROM:-0700
TZOFFSETTO:-0800
TZNAME:PST
DTSTART:20241103T090000
END:STANDARD
END:VTIMEZONE
BEGIN:VEVENT
DTSTART;TZID=America/Vancouver:20231209T100000
DTEND;TZID=America/Vancouver:20231209T120000
DTSTAMP:20260422T200941
CREATED:20231201T195933Z
LAST-MODIFIED:20231201T195933Z
UID:6456-1702116000-1702123200@rmqg.ca
SUMMARY:Zoom Sewing
DESCRIPTION:
URL:https://rmqg.ca/event/zoom-sewing-3/
END:VEVENT
BEGIN:VEVENT
DTSTART;TZID=America/Vancouver:20231212T190000
DTEND;TZID=America/Vancouver:20231212T210000
DTSTAMP:20260422T200941
CREATED:20231101T140023Z
LAST-MODIFIED:20231101T140140Z
UID:6400-1702407600-1702414800@rmqg.ca
SUMMARY:Guild Meeting
DESCRIPTION:December Social\nDoors open at 6:30pm
URL:https://rmqg.ca/event/guild-meeting-2/
END:VEVENT
BEGIN:VEVENT
DTSTART;TZID=America/Vancouver:20231216T090000
DTEND;TZID=America/Vancouver:20231216T160000
DTSTAMP:20260422T200941
CREATED:20231101T141956Z
LAST-MODIFIED:20231102T133426Z
UID:6427-1702717200-1702742400@rmqg.ca
SUMMARY:Sewing Day
DESCRIPTION:
URL:https://rmqg.ca/event/sewing-day-2/
LOCATION:Dragonfly Quilting & Gfits\, 17802 B. 66th Avenue\, Surrey\, BC\, V3S 7X1\, Canada
END:VEVENT
BEGIN:VEVENT
DTSTART;TZID=America/Vancouver:20231216T100000
DTEND;TZID=America/Vancouver:20231216T120000
DTSTAMP:20260422T200941
CREATED:20231201T200003Z
LAST-MODIFIED:20231201T200003Z
UID:6458-1702720800-1702728000@rmqg.ca
SUMMARY:Zoom Sewing
DESCRIPTION:
URL:https://rmqg.ca/event/zoom-sewing-4/
END:VEVENT
BEGIN:VEVENT
DTSTART;TZID=America/Vancouver:20231223T100000
DTEND;TZID=America/Vancouver:20231223T120000
DTSTAMP:20260422T200941
CREATED:20231201T200029Z
LAST-MODIFIED:20231201T200029Z
UID:6460-1703325600-1703332800@rmqg.ca
SUMMARY:Zoom Sewing
DESCRIPTION:
URL:https://rmqg.ca/event/zoom-sewing-5/
END:VEVENT
END:VCALENDAR