BEGIN:VCALENDAR
VERSION:2.0
PRODID:-//Ridge Meadows Quilters&#039; Guild - ECPv6.15.13//NONSGML v1.0//EN
CALSCALE:GREGORIAN
METHOD:PUBLISH
X-WR-CALNAME:Ridge Meadows Quilters&#039; Guild
X-ORIGINAL-URL:https://rmqg.ca
X-WR-CALDESC:Events for Ridge Meadows Quilters&#039; Guild
REFRESH-INTERVAL;VALUE=DURATION:PT1H
X-Robots-Tag:noindex
X-PUBLISHED-TTL:PT1H
BEGIN:VTIMEZONE
TZID:America/Vancouver
BEGIN:DAYLIGHT
TZOFFSETFROM:-0800
TZOFFSETTO:-0700
TZNAME:PDT
DTSTART:20230312T100000
END:DAYLIGHT
BEGIN:STANDARD
TZOFFSETFROM:-0700
TZOFFSETTO:-0800
TZNAME:PST
DTSTART:20231105T090000
END:STANDARD
BEGIN:DAYLIGHT
TZOFFSETFROM:-0800
TZOFFSETTO:-0700
TZNAME:PDT
DTSTART:20240310T100000
END:DAYLIGHT
BEGIN:STANDARD
TZOFFSETFROM:-0700
TZOFFSETTO:-0800
TZNAME:PST
DTSTART:20241103T090000
END:STANDARD
BEGIN:DAYLIGHT
TZOFFSETFROM:-0800
TZOFFSETTO:-0700
TZNAME:PDT
DTSTART:20250309T100000
END:DAYLIGHT
BEGIN:STANDARD
TZOFFSETFROM:-0700
TZOFFSETTO:-0800
TZNAME:PST
DTSTART:20251102T090000
END:STANDARD
END:VTIMEZONE
BEGIN:VEVENT
DTSTART;TZID=America/Vancouver:20240312T190000
DTEND;TZID=America/Vancouver:20240312T210000
DTSTAMP:20260422T151843
CREATED:20231101T140614Z
LAST-MODIFIED:20240102T042343Z
UID:6408-1710270000-1710277200@rmqg.ca
SUMMARY:Guild Meeting
DESCRIPTION:Let’s discuss labels\, Pop up shop Dragonfly Quilting\nDoors open at 6:30pm
URL:https://rmqg.ca/event/guild-meeting-5/
LOCATION:St. George’s Anglican Church\, 23500 Dewdney Trunk Road\, Maple Ridge\, BC\, V2X 3L8\, Canada
END:VEVENT
BEGIN:VEVENT
DTSTART;TZID=America/Vancouver:20240314T093000
DTEND;TZID=America/Vancouver:20240314T160000
DTSTAMP:20260422T151843
CREATED:20240126T163506Z
LAST-MODIFIED:20240126T163506Z
UID:6526-1710408600-1710432000@rmqg.ca
SUMMARY:Sewing Day
DESCRIPTION:
URL:https://rmqg.ca/event/sewing-day-11/
LOCATION:Fraserview
END:VEVENT
BEGIN:VEVENT
DTSTART;TZID=America/Vancouver:20240316T090000
DTEND;TZID=America/Vancouver:20240316T170000
DTSTAMP:20260422T151843
CREATED:20240102T041916Z
LAST-MODIFIED:20240102T041916Z
UID:6505-1710579600-1710608400@rmqg.ca
SUMMARY:Sewing Day
DESCRIPTION:
URL:https://rmqg.ca/event/sewing-day-8/
LOCATION:Albion Community Centre\, 24165 104 Avenue\, Maple Ridge\, BC\, V2W 1J2\, Canada
END:VEVENT
END:VCALENDAR