BEGIN:VCALENDAR
VERSION:2.0
PRODID:-//Ridge Meadows Quilters&#039; Guild - ECPv6.15.13//NONSGML v1.0//EN
CALSCALE:GREGORIAN
METHOD:PUBLISH
X-ORIGINAL-URL:https://rmqg.ca
X-WR-CALDESC:Events for Ridge Meadows Quilters&#039; Guild
REFRESH-INTERVAL;VALUE=DURATION:PT1H
X-Robots-Tag:noindex
X-PUBLISHED-TTL:PT1H
BEGIN:VTIMEZONE
TZID:America/Vancouver
BEGIN:DAYLIGHT
TZOFFSETFROM:-0800
TZOFFSETTO:-0700
TZNAME:PDT
DTSTART:20230312T100000
END:DAYLIGHT
BEGIN:STANDARD
TZOFFSETFROM:-0700
TZOFFSETTO:-0800
TZNAME:PST
DTSTART:20231105T090000
END:STANDARD
BEGIN:DAYLIGHT
TZOFFSETFROM:-0800
TZOFFSETTO:-0700
TZNAME:PDT
DTSTART:20240310T100000
END:DAYLIGHT
BEGIN:STANDARD
TZOFFSETFROM:-0700
TZOFFSETTO:-0800
TZNAME:PST
DTSTART:20241103T090000
END:STANDARD
BEGIN:DAYLIGHT
TZOFFSETFROM:-0800
TZOFFSETTO:-0700
TZNAME:PDT
DTSTART:20250309T100000
END:DAYLIGHT
BEGIN:STANDARD
TZOFFSETFROM:-0700
TZOFFSETTO:-0800
TZNAME:PST
DTSTART:20251102T090000
END:STANDARD
END:VTIMEZONE
BEGIN:VEVENT
DTSTART;TZID=America/Vancouver:20240504T100000
DTEND;TZID=America/Vancouver:20240504T160000
DTSTAMP:20260422T121237
CREATED:20240402T023830Z
LAST-MODIFIED:20240402T023830Z
UID:6557-1714816800-1714838400@rmqg.ca
SUMMARY:Sewing Day
DESCRIPTION:
URL:https://rmqg.ca/event/sewing-day-10/
LOCATION:Dragonfly Quilting & Gfits\, 17802 B. 66th Avenue\, Surrey\, BC\, V3S 7X1\, Canada
END:VEVENT
BEGIN:VEVENT
DTSTART;TZID=America/Vancouver:20240511T100000
DTEND;TZID=America/Vancouver:20240511T120000
DTSTAMP:20260422T121237
CREATED:20240502T143356Z
LAST-MODIFIED:20240502T143356Z
UID:6573-1715421600-1715428800@rmqg.ca
SUMMARY:Zoom Sewing
DESCRIPTION:
URL:https://rmqg.ca/event/zoom-sewing-10/
LOCATION:Zoom
END:VEVENT
BEGIN:VEVENT
DTSTART;TZID=America/Vancouver:20240514T190000
DTEND;TZID=America/Vancouver:20240514T210000
DTSTAMP:20260422T121237
CREATED:20231101T140809Z
LAST-MODIFIED:20240102T042522Z
UID:6412-1715713200-1715720400@rmqg.ca
SUMMARY:Guild Meeting
DESCRIPTION:Annual General Meeting\nDoors open at 6:30pm
URL:https://rmqg.ca/event/guild-meeting-7/
LOCATION:St. George’s Anglican Church\, 23500 Dewdney Trunk Road\, Maple Ridge\, BC\, V2X 3L8\, Canada
END:VEVENT
BEGIN:VEVENT
DTSTART;TZID=America/Vancouver:20240516T093000
DTEND;TZID=America/Vancouver:20240516T160000
DTSTAMP:20260422T121237
CREATED:20240402T024005Z
LAST-MODIFIED:20240402T024005Z
UID:6562-1715851800-1715875200@rmqg.ca
SUMMARY:Sewing Day
DESCRIPTION:
URL:https://rmqg.ca/event/sewing-day-12/
LOCATION:Fraserview
END:VEVENT
BEGIN:VEVENT
DTSTART;TZID=America/Vancouver:20240518T100000
DTEND;TZID=America/Vancouver:20240518T120000
DTSTAMP:20260422T121237
CREATED:20240502T143434Z
LAST-MODIFIED:20240502T143434Z
UID:6575-1716026400-1716033600@rmqg.ca
SUMMARY:Zoom Sewing
DESCRIPTION:
URL:https://rmqg.ca/event/zoom-sewing-11/
LOCATION:Zoom
END:VEVENT
END:VCALENDAR