BEGIN:VCALENDAR
VERSION:2.0
PRODID:-//Ridge Meadows Quilters&#039; Guild - ECPv6.15.13//NONSGML v1.0//EN
CALSCALE:GREGORIAN
METHOD:PUBLISH
X-ORIGINAL-URL:https://rmqg.ca
X-WR-CALDESC:Events for Ridge Meadows Quilters&#039; Guild
REFRESH-INTERVAL;VALUE=DURATION:PT1H
X-Robots-Tag:noindex
X-PUBLISHED-TTL:PT1H
BEGIN:VTIMEZONE
TZID:America/Vancouver
BEGIN:DAYLIGHT
TZOFFSETFROM:-0800
TZOFFSETTO:-0700
TZNAME:PDT
DTSTART:20230312T100000
END:DAYLIGHT
BEGIN:STANDARD
TZOFFSETFROM:-0700
TZOFFSETTO:-0800
TZNAME:PST
DTSTART:20231105T090000
END:STANDARD
BEGIN:DAYLIGHT
TZOFFSETFROM:-0800
TZOFFSETTO:-0700
TZNAME:PDT
DTSTART:20240310T100000
END:DAYLIGHT
BEGIN:STANDARD
TZOFFSETFROM:-0700
TZOFFSETTO:-0800
TZNAME:PST
DTSTART:20241103T090000
END:STANDARD
BEGIN:DAYLIGHT
TZOFFSETFROM:-0800
TZOFFSETTO:-0700
TZNAME:PDT
DTSTART:20250309T100000
END:DAYLIGHT
BEGIN:STANDARD
TZOFFSETFROM:-0700
TZOFFSETTO:-0800
TZNAME:PST
DTSTART:20251102T090000
END:STANDARD
END:VTIMEZONE
BEGIN:VEVENT
DTSTART;TZID=America/Vancouver:20240604T190000
DTEND;TZID=America/Vancouver:20240604T200000
DTSTAMP:20260422T103536
CREATED:20240525T133322Z
LAST-MODIFIED:20240525T133322Z
UID:6580-1717527600-1717531200@rmqg.ca
SUMMARY:Executive Meeting
DESCRIPTION:
URL:https://rmqg.ca/event/executive-meeting-2/
LOCATION:Zoom
END:VEVENT
BEGIN:VEVENT
DTSTART;TZID=America/Vancouver:20240611T190000
DTEND;TZID=America/Vancouver:20240611T210000
DTSTAMP:20260422T103536
CREATED:20231101T140856Z
LAST-MODIFIED:20240102T042620Z
UID:6414-1718132400-1718139600@rmqg.ca
SUMMARY:Guild Meeting
DESCRIPTION:June Social\nDoors open at 6:30pm
URL:https://rmqg.ca/event/guild-meeting-8/
LOCATION:St. George’s Anglican Church\, 23500 Dewdney Trunk Road\, Maple Ridge\, BC\, V2X 3L8\, Canada
END:VEVENT
BEGIN:VEVENT
DTSTART;TZID=America/Vancouver:20240613T093000
DTEND;TZID=America/Vancouver:20240613T160000
DTSTAMP:20260422T103536
CREATED:20240402T024157Z
LAST-MODIFIED:20240402T024157Z
UID:6565-1718271000-1718294400@rmqg.ca
SUMMARY:Sewing Day
DESCRIPTION:
URL:https://rmqg.ca/event/sewing-day-13/
LOCATION:Fraserview
END:VEVENT
END:VCALENDAR