BEGIN:VCALENDAR
VERSION:2.0
PRODID:-//Ridge Meadows Quilters&#039; Guild - ECPv6.15.13//NONSGML v1.0//EN
CALSCALE:GREGORIAN
METHOD:PUBLISH
X-WR-CALNAME:Ridge Meadows Quilters&#039; Guild
X-ORIGINAL-URL:https://rmqg.ca
X-WR-CALDESC:Events for Ridge Meadows Quilters&#039; Guild
REFRESH-INTERVAL;VALUE=DURATION:PT1H
X-Robots-Tag:noindex
X-PUBLISHED-TTL:PT1H
BEGIN:VTIMEZONE
TZID:America/Vancouver
BEGIN:DAYLIGHT
TZOFFSETFROM:-0800
TZOFFSETTO:-0700
TZNAME:PDT
DTSTART:20230312T100000
END:DAYLIGHT
BEGIN:STANDARD
TZOFFSETFROM:-0700
TZOFFSETTO:-0800
TZNAME:PST
DTSTART:20231105T090000
END:STANDARD
BEGIN:DAYLIGHT
TZOFFSETFROM:-0800
TZOFFSETTO:-0700
TZNAME:PDT
DTSTART:20240310T100000
END:DAYLIGHT
BEGIN:STANDARD
TZOFFSETFROM:-0700
TZOFFSETTO:-0800
TZNAME:PST
DTSTART:20241103T090000
END:STANDARD
BEGIN:DAYLIGHT
TZOFFSETFROM:-0800
TZOFFSETTO:-0700
TZNAME:PDT
DTSTART:20250309T100000
END:DAYLIGHT
BEGIN:STANDARD
TZOFFSETFROM:-0700
TZOFFSETTO:-0800
TZNAME:PST
DTSTART:20251102T090000
END:STANDARD
END:VTIMEZONE
BEGIN:VEVENT
DTSTART;TZID=America/Vancouver:20240907T100000
DTEND;TZID=America/Vancouver:20240907T120000
DTSTAMP:20260422T053644
CREATED:20240902T182550Z
LAST-MODIFIED:20240902T182550Z
UID:6650-1725703200-1725710400@rmqg.ca
SUMMARY:Zoom Sewing
DESCRIPTION:
URL:https://rmqg.ca/event/zoom-sewing-12/
LOCATION:Zoom
END:VEVENT
BEGIN:VEVENT
DTSTART;TZID=America/Vancouver:20240910T190000
DTEND;TZID=America/Vancouver:20240910T210000
DTSTAMP:20260422T053644
CREATED:20240809T183434Z
LAST-MODIFIED:20240809T183434Z
UID:6621-1725994800-1726002000@rmqg.ca
SUMMARY:Guild Meeting
DESCRIPTION:
URL:https://rmqg.ca/event/guild-meeting-9/
LOCATION:St. George’s Anglican Church\, 23500 Dewdney Trunk Road\, Maple Ridge\, BC\, V2X 3L8\, Canada
END:VEVENT
BEGIN:VEVENT
DTSTART;TZID=America/Vancouver:20240912T093000
DTEND;TZID=America/Vancouver:20240912T160000
DTSTAMP:20260422T053644
CREATED:20240902T182941Z
LAST-MODIFIED:20240902T182941Z
UID:6661-1726133400-1726156800@rmqg.ca
SUMMARY:Sewing Day
DESCRIPTION:
URL:https://rmqg.ca/event/sewing-day-17/
LOCATION:Fraserview
END:VEVENT
BEGIN:VEVENT
DTSTART;TZID=America/Vancouver:20240921T100000
DTEND;TZID=America/Vancouver:20240921T120000
DTSTAMP:20260422T053644
CREATED:20240902T182619Z
LAST-MODIFIED:20240902T182619Z
UID:6652-1726912800-1726920000@rmqg.ca
SUMMARY:Zoom Sewing
DESCRIPTION:
URL:https://rmqg.ca/event/zoom-sewing-13/
LOCATION:Zoom
END:VEVENT
END:VCALENDAR