BEGIN:VCALENDAR
VERSION:2.0
PRODID:-//Ridge Meadows Quilters&#039; Guild - ECPv6.15.13//NONSGML v1.0//EN
CALSCALE:GREGORIAN
METHOD:PUBLISH
X-ORIGINAL-URL:https://rmqg.ca
X-WR-CALDESC:Events for Ridge Meadows Quilters&#039; Guild
REFRESH-INTERVAL;VALUE=DURATION:PT1H
X-Robots-Tag:noindex
X-PUBLISHED-TTL:PT1H
BEGIN:VTIMEZONE
TZID:America/Vancouver
BEGIN:DAYLIGHT
TZOFFSETFROM:-0800
TZOFFSETTO:-0700
TZNAME:PDT
DTSTART:20230312T100000
END:DAYLIGHT
BEGIN:STANDARD
TZOFFSETFROM:-0700
TZOFFSETTO:-0800
TZNAME:PST
DTSTART:20231105T090000
END:STANDARD
BEGIN:DAYLIGHT
TZOFFSETFROM:-0800
TZOFFSETTO:-0700
TZNAME:PDT
DTSTART:20240310T100000
END:DAYLIGHT
BEGIN:STANDARD
TZOFFSETFROM:-0700
TZOFFSETTO:-0800
TZNAME:PST
DTSTART:20241103T090000
END:STANDARD
BEGIN:DAYLIGHT
TZOFFSETFROM:-0800
TZOFFSETTO:-0700
TZNAME:PDT
DTSTART:20250309T100000
END:DAYLIGHT
BEGIN:STANDARD
TZOFFSETFROM:-0700
TZOFFSETTO:-0800
TZNAME:PST
DTSTART:20251102T090000
END:STANDARD
END:VTIMEZONE
BEGIN:VEVENT
DTSTART;TZID=America/Vancouver:20241005T103000
DTEND;TZID=America/Vancouver:20241005T163000
DTSTAMP:20260422T035523
CREATED:20240902T182701Z
LAST-MODIFIED:20240902T182701Z
UID:6654-1728124200-1728145800@rmqg.ca
SUMMARY:Sewing Day
DESCRIPTION:
URL:https://rmqg.ca/event/sewing-day-14/
LOCATION:Albion Community Centre\, 24165 104 Avenue\, Maple Ridge\, BC\, V2W 1J2\, Canada
END:VEVENT
BEGIN:VEVENT
DTSTART;TZID=America/Vancouver:20241008T190000
DTEND;TZID=America/Vancouver:20241008T210000
DTSTAMP:20260422T035523
CREATED:20240809T183506Z
LAST-MODIFIED:20240809T183506Z
UID:6623-1728414000-1728421200@rmqg.ca
SUMMARY:Guild Meeting
DESCRIPTION:
URL:https://rmqg.ca/event/guild-meeting-10/
LOCATION:St. George’s Anglican Church\, 23500 Dewdney Trunk Road\, Maple Ridge\, BC\, V2X 3L8\, Canada
END:VEVENT
BEGIN:VEVENT
DTSTART;TZID=America/Vancouver:20241010T093000
DTEND;TZID=America/Vancouver:20241010T160000
DTSTAMP:20260422T035523
CREATED:20240902T183013Z
LAST-MODIFIED:20240902T183013Z
UID:6663-1728552600-1728576000@rmqg.ca
SUMMARY:Sewing Day
DESCRIPTION:
URL:https://rmqg.ca/event/sewing-day-18/
LOCATION:Fraserview
END:VEVENT
BEGIN:VEVENT
DTSTART;TZID=America/Vancouver:20241019T103000
DTEND;TZID=America/Vancouver:20241019T163000
DTSTAMP:20260422T035523
CREATED:20240902T182733Z
LAST-MODIFIED:20240902T182733Z
UID:6656-1729333800-1729355400@rmqg.ca
SUMMARY:Sewing Day
DESCRIPTION:
URL:https://rmqg.ca/event/sewing-day-15/
LOCATION:Albion Community Centre\, 24165 104 Avenue\, Maple Ridge\, BC\, V2W 1J2\, Canada
END:VEVENT
BEGIN:VEVENT
DTSTART;TZID=America/Vancouver:20241026T090000
DTEND;TZID=America/Vancouver:20241026T140000
DTSTAMP:20260422T035523
CREATED:20240923T224014Z
LAST-MODIFIED:20240923T224014Z
UID:6680-1729933200-1729951200@rmqg.ca
SUMMARY:Raffle Tickets - Haney Farmer's Market
DESCRIPTION:
URL:https://rmqg.ca/event/raffle-tickets-haney-farmers-market/
LOCATION:Haney Farmer’s Market\, 11930 224 Street\, Maple Ridge\, BC\, Canada
END:VEVENT
END:VCALENDAR