BEGIN:VCALENDAR
VERSION:2.0
PRODID:-//Ridge Meadows Quilters&#039; Guild - ECPv6.15.13//NONSGML v1.0//EN
CALSCALE:GREGORIAN
METHOD:PUBLISH
X-ORIGINAL-URL:https://rmqg.ca
X-WR-CALDESC:Events for Ridge Meadows Quilters&#039; Guild
REFRESH-INTERVAL;VALUE=DURATION:PT1H
X-Robots-Tag:noindex
X-PUBLISHED-TTL:PT1H
BEGIN:VTIMEZONE
TZID:America/Vancouver
BEGIN:DAYLIGHT
TZOFFSETFROM:-0800
TZOFFSETTO:-0700
TZNAME:PDT
DTSTART:20230312T100000
END:DAYLIGHT
BEGIN:STANDARD
TZOFFSETFROM:-0700
TZOFFSETTO:-0800
TZNAME:PST
DTSTART:20231105T090000
END:STANDARD
BEGIN:DAYLIGHT
TZOFFSETFROM:-0800
TZOFFSETTO:-0700
TZNAME:PDT
DTSTART:20240310T100000
END:DAYLIGHT
BEGIN:STANDARD
TZOFFSETFROM:-0700
TZOFFSETTO:-0800
TZNAME:PST
DTSTART:20241103T090000
END:STANDARD
BEGIN:DAYLIGHT
TZOFFSETFROM:-0800
TZOFFSETTO:-0700
TZNAME:PDT
DTSTART:20250309T100000
END:DAYLIGHT
BEGIN:STANDARD
TZOFFSETFROM:-0700
TZOFFSETTO:-0800
TZNAME:PST
DTSTART:20251102T090000
END:STANDARD
BEGIN:DAYLIGHT
TZOFFSETFROM:-0800
TZOFFSETTO:-0700
TZNAME:PDT
DTSTART:20260308T100000
END:DAYLIGHT
BEGIN:STANDARD
TZOFFSETFROM:-0700
TZOFFSETTO:-0800
TZNAME:PST
DTSTART:20261101T090000
END:STANDARD
END:VTIMEZONE
BEGIN:VEVENT
DTSTART;TZID=America/Vancouver:20241231T190000
DTEND;TZID=America/Vancouver:20250101T160000
DTSTAMP:20260421T233811
CREATED:20241225T153623Z
LAST-MODIFIED:20241225T153623Z
UID:6731-1735671600-1735747200@rmqg.ca
SUMMARY:New Years Eve Quilt until you Wilt
DESCRIPTION:Zoom will be open for 21 hours\, drop in as you have time.  This is a no host event.
URL:https://rmqg.ca/event/new-years-eve-quilt-until-you-wilt/
LOCATION:Zoom
END:VEVENT
BEGIN:VEVENT
DTSTART;TZID=America/Vancouver:20250104T100000
DTEND;TZID=America/Vancouver:20250104T120000
DTSTAMP:20260421T233811
CREATED:20241225T153827Z
LAST-MODIFIED:20241225T153827Z
UID:6735-1735984800-1735992000@rmqg.ca
SUMMARY:Saturday Morning Zoom
DESCRIPTION:
URL:https://rmqg.ca/event/saturday-morning-zoom-2/
LOCATION:Zoom
END:VEVENT
BEGIN:VEVENT
DTSTART;TZID=America/Vancouver:20250109T093000
DTEND;TZID=America/Vancouver:20250109T160000
DTSTAMP:20260421T233811
CREATED:20241225T154354Z
LAST-MODIFIED:20241225T154354Z
UID:6745-1736415000-1736438400@rmqg.ca
SUMMARY:Fireside Sew Day
DESCRIPTION:
URL:https://rmqg.ca/event/fireside-sew-day-2/
LOCATION:Fraserview
END:VEVENT
BEGIN:VEVENT
DTSTART;TZID=America/Vancouver:20250111T104000
DTEND;TZID=America/Vancouver:20250111T163000
DTSTAMP:20260421T233811
CREATED:20241225T154018Z
LAST-MODIFIED:20241225T154018Z
UID:6739-1736592000-1736613000@rmqg.ca
SUMMARY:Albion Sew Day
DESCRIPTION:
URL:https://rmqg.ca/event/albion-sew-day/
LOCATION:Albion Community Centre\, 24165 104 Avenue\, Maple Ridge\, BC\, V2W 1J2\, Canada
END:VEVENT
BEGIN:VEVENT
DTSTART;TZID=America/Vancouver:20250114T190000
DTEND;TZID=America/Vancouver:20250114T210000
DTSTAMP:20260421T233811
CREATED:20240809T183638Z
LAST-MODIFIED:20241225T190921Z
UID:6629-1736881200-1736888400@rmqg.ca
SUMMARY:Zoom Guild Meeting - Guest Speaker Melisa Marginet...
DESCRIPTION:Zoom guest speaker\, Melisa Marginet – “Get your motor running” – she is a machine quilter/walking foot expert – expect motivation to finish up those quilts.  Check her web site prior to the meeting  www.melissamarginet.ca
URL:https://rmqg.ca/event/guild-meeting-13/
LOCATION:Zoom
END:VEVENT
BEGIN:VEVENT
DTSTART;TZID=America/Vancouver:20250118T100000
DTEND;TZID=America/Vancouver:20250118T120000
DTSTAMP:20260421T233811
CREATED:20241225T153910Z
LAST-MODIFIED:20241225T153910Z
UID:6737-1737194400-1737201600@rmqg.ca
SUMMARY:Saturday Morning Zoom
DESCRIPTION:
URL:https://rmqg.ca/event/saturday-morning-zoom-3/
LOCATION:Zoom
END:VEVENT
END:VCALENDAR