BEGIN:VCALENDAR
VERSION:2.0
PRODID:-//Ridge Meadows Quilters&#039; Guild - ECPv6.15.13//NONSGML v1.0//EN
CALSCALE:GREGORIAN
METHOD:PUBLISH
X-WR-CALNAME:Ridge Meadows Quilters&#039; Guild
X-ORIGINAL-URL:https://rmqg.ca
X-WR-CALDESC:Events for Ridge Meadows Quilters&#039; Guild
REFRESH-INTERVAL;VALUE=DURATION:PT1H
X-Robots-Tag:noindex
X-PUBLISHED-TTL:PT1H
BEGIN:VTIMEZONE
TZID:America/Vancouver
BEGIN:DAYLIGHT
TZOFFSETFROM:-0800
TZOFFSETTO:-0700
TZNAME:PDT
DTSTART:20240310T100000
END:DAYLIGHT
BEGIN:STANDARD
TZOFFSETFROM:-0700
TZOFFSETTO:-0800
TZNAME:PST
DTSTART:20241103T090000
END:STANDARD
BEGIN:DAYLIGHT
TZOFFSETFROM:-0800
TZOFFSETTO:-0700
TZNAME:PDT
DTSTART:20250309T100000
END:DAYLIGHT
BEGIN:STANDARD
TZOFFSETFROM:-0700
TZOFFSETTO:-0800
TZNAME:PST
DTSTART:20251102T090000
END:STANDARD
BEGIN:DAYLIGHT
TZOFFSETFROM:-0800
TZOFFSETTO:-0700
TZNAME:PDT
DTSTART:20260308T100000
END:DAYLIGHT
BEGIN:STANDARD
TZOFFSETFROM:-0700
TZOFFSETTO:-0800
TZNAME:PST
DTSTART:20261101T090000
END:STANDARD
END:VTIMEZONE
BEGIN:VEVENT
DTSTART;TZID=America/Vancouver:20250408T190000
DTEND;TZID=America/Vancouver:20250408T210000
DTSTAMP:20260421T181846
CREATED:20240809T183826Z
LAST-MODIFIED:20240809T183826Z
UID:6636-1744138800-1744146000@rmqg.ca
SUMMARY:Guild Meeting
DESCRIPTION:
URL:https://rmqg.ca/event/guild-meeting-16/
LOCATION:St. George’s Anglican Church\, 23500 Dewdney Trunk Road\, Maple Ridge\, BC\, V2X 3L8\, Canada
END:VEVENT
BEGIN:VEVENT
DTSTART;TZID=America/Vancouver:20250410T093000
DTEND;TZID=America/Vancouver:20250410T160000
DTSTAMP:20260421T181846
CREATED:20250405T021831Z
LAST-MODIFIED:20250405T021831Z
UID:6819-1744277400-1744300800@rmqg.ca
SUMMARY:Fireside Sew Day
DESCRIPTION:
URL:https://rmqg.ca/event/fireside-sew-day-5/
LOCATION:Fraserview
END:VEVENT
BEGIN:VEVENT
DTSTART;TZID=America/Vancouver:20250412T100000
DTEND;TZID=America/Vancouver:20250412T120000
DTSTAMP:20260421T181846
CREATED:20250405T021610Z
LAST-MODIFIED:20250405T021610Z
UID:6813-1744452000-1744459200@rmqg.ca
SUMMARY:Saturday Zoom Sewing
DESCRIPTION:
URL:https://rmqg.ca/event/saturday-zoom-sewing/
LOCATION:Zoom
END:VEVENT
BEGIN:VEVENT
DTSTART;TZID=America/Vancouver:20250426T100000
DTEND;TZID=America/Vancouver:20250426T120000
DTSTAMP:20260421T181846
CREATED:20250405T021648Z
LAST-MODIFIED:20250405T021648Z
UID:6815-1745661600-1745668800@rmqg.ca
SUMMARY:Saturday Zoom Sewing
DESCRIPTION:
URL:https://rmqg.ca/event/saturday-zoom-sewing-2/
LOCATION:Zoom
END:VEVENT
BEGIN:VEVENT
DTSTART;TZID=America/Vancouver:20250426T104000
DTEND;TZID=America/Vancouver:20250426T160000
DTSTAMP:20260421T181846
CREATED:20250405T021741Z
LAST-MODIFIED:20250405T021741Z
UID:6817-1745664000-1745683200@rmqg.ca
SUMMARY:Albion Sew Day
DESCRIPTION:
URL:https://rmqg.ca/event/albion-sew-day-4/
LOCATION:Albion Community Centre\, 24165 104 Avenue\, Maple Ridge\, BC\, V2W 1J2\, Canada
END:VEVENT
END:VCALENDAR