BEGIN:VCALENDAR
VERSION:2.0
PRODID:-//Ridge Meadows Quilters&#039; Guild - ECPv6.15.13//NONSGML v1.0//EN
CALSCALE:GREGORIAN
METHOD:PUBLISH
X-ORIGINAL-URL:https://rmqg.ca
X-WR-CALDESC:Events for Ridge Meadows Quilters&#039; Guild
REFRESH-INTERVAL;VALUE=DURATION:PT1H
X-Robots-Tag:noindex
X-PUBLISHED-TTL:PT1H
BEGIN:VTIMEZONE
TZID:America/Vancouver
BEGIN:DAYLIGHT
TZOFFSETFROM:-0800
TZOFFSETTO:-0700
TZNAME:PDT
DTSTART:20240310T100000
END:DAYLIGHT
BEGIN:STANDARD
TZOFFSETFROM:-0700
TZOFFSETTO:-0800
TZNAME:PST
DTSTART:20241103T090000
END:STANDARD
BEGIN:DAYLIGHT
TZOFFSETFROM:-0800
TZOFFSETTO:-0700
TZNAME:PDT
DTSTART:20250309T100000
END:DAYLIGHT
BEGIN:STANDARD
TZOFFSETFROM:-0700
TZOFFSETTO:-0800
TZNAME:PST
DTSTART:20251102T090000
END:STANDARD
BEGIN:DAYLIGHT
TZOFFSETFROM:-0800
TZOFFSETTO:-0700
TZNAME:PDT
DTSTART:20260308T100000
END:DAYLIGHT
BEGIN:STANDARD
TZOFFSETFROM:-0700
TZOFFSETTO:-0800
TZNAME:PST
DTSTART:20261101T090000
END:STANDARD
END:VTIMEZONE
BEGIN:VEVENT
DTSTART;TZID=America/Vancouver:20250507T100000
DTEND;TZID=America/Vancouver:20250507T120000
DTSTAMP:20260421T165110
CREATED:20250501T162954Z
LAST-MODIFIED:20250501T162954Z
UID:6832-1746612000-1746619200@rmqg.ca
SUMMARY:Wednesday Zoom - Link sent to members
DESCRIPTION:
URL:https://rmqg.ca/event/wednesday-zoom-link-sent-to-members/
END:VEVENT
BEGIN:VEVENT
DTSTART;TZID=America/Vancouver:20250510T100000
DTEND;TZID=America/Vancouver:20250510T120000
DTSTAMP:20260421T165110
CREATED:20250501T163111Z
LAST-MODIFIED:20250501T163111Z
UID:6836-1746871200-1746878400@rmqg.ca
SUMMARY:Saturday Zoom  - Link sent to members
DESCRIPTION:
URL:https://rmqg.ca/event/saturday-zoom-link-sent-to-members/
END:VEVENT
BEGIN:VEVENT
DTSTART;TZID=America/Vancouver:20250515T093000
DTEND;TZID=America/Vancouver:20250515T160000
DTSTAMP:20260421T165110
CREATED:20250501T163537Z
LAST-MODIFIED:20250501T163537Z
UID:6850-1747301400-1747324800@rmqg.ca
SUMMARY:Fireside Sew Day
DESCRIPTION:
URL:https://rmqg.ca/event/fireside-sew-day-6/
END:VEVENT
BEGIN:VEVENT
DTSTART;TZID=America/Vancouver:20250521T100000
DTEND;TZID=America/Vancouver:20250521T120000
DTSTAMP:20260421T165110
CREATED:20250501T163039Z
LAST-MODIFIED:20250501T163039Z
UID:6834-1747821600-1747828800@rmqg.ca
SUMMARY:Wednesday Zoom - Link sent to members
DESCRIPTION:
URL:https://rmqg.ca/event/wednesday-zoom-link-sent-to-members-2/
END:VEVENT
BEGIN:VEVENT
DTSTART;TZID=America/Vancouver:20250524T104000
DTEND;TZID=America/Vancouver:20250524T163000
DTSTAMP:20260421T165110
CREATED:20250501T163507Z
LAST-MODIFIED:20250501T163507Z
UID:6848-1748083200-1748104200@rmqg.ca
SUMMARY:Albion Sew Day
DESCRIPTION:
URL:https://rmqg.ca/event/albion-sew-day-5/
END:VEVENT
BEGIN:VEVENT
DTSTART;TZID=America/Vancouver:20250531T100000
DTEND;TZID=America/Vancouver:20250531T120000
DTSTAMP:20260421T165110
CREATED:20250501T163148Z
LAST-MODIFIED:20250501T163148Z
UID:6838-1748685600-1748692800@rmqg.ca
SUMMARY:Saturday Zoom - Link sent to members
DESCRIPTION:
URL:https://rmqg.ca/event/saturday-zoom-link-sent-to-members-2/
END:VEVENT
END:VCALENDAR