BEGIN:VCALENDAR
VERSION:2.0
PRODID:-//Ridge Meadows Quilters&#039; Guild - ECPv6.15.13//NONSGML v1.0//EN
CALSCALE:GREGORIAN
METHOD:PUBLISH
X-ORIGINAL-URL:https://rmqg.ca
X-WR-CALDESC:Events for Ridge Meadows Quilters&#039; Guild
REFRESH-INTERVAL;VALUE=DURATION:PT1H
X-Robots-Tag:noindex
X-PUBLISHED-TTL:PT1H
BEGIN:VTIMEZONE
TZID:America/Vancouver
BEGIN:DAYLIGHT
TZOFFSETFROM:-0800
TZOFFSETTO:-0700
TZNAME:PDT
DTSTART:20240310T100000
END:DAYLIGHT
BEGIN:STANDARD
TZOFFSETFROM:-0700
TZOFFSETTO:-0800
TZNAME:PST
DTSTART:20241103T090000
END:STANDARD
BEGIN:DAYLIGHT
TZOFFSETFROM:-0800
TZOFFSETTO:-0700
TZNAME:PDT
DTSTART:20250309T100000
END:DAYLIGHT
BEGIN:STANDARD
TZOFFSETFROM:-0700
TZOFFSETTO:-0800
TZNAME:PST
DTSTART:20251102T090000
END:STANDARD
BEGIN:DAYLIGHT
TZOFFSETFROM:-0800
TZOFFSETTO:-0700
TZNAME:PDT
DTSTART:20260308T100000
END:DAYLIGHT
BEGIN:STANDARD
TZOFFSETFROM:-0700
TZOFFSETTO:-0800
TZNAME:PST
DTSTART:20261101T090000
END:STANDARD
END:VTIMEZONE
BEGIN:VEVENT
DTSTART;TZID=America/Vancouver:20250909T183000
DTEND;TZID=America/Vancouver:20250909T210000
DTSTAMP:20260421T102654
CREATED:20250901T013451Z
LAST-MODIFIED:20250901T013451Z
UID:6948-1757442600-1757451600@rmqg.ca
SUMMARY:September Guild Meeting resumes
DESCRIPTION:
URL:https://rmqg.ca/event/september-guild-meeting-resumes/
LOCATION:St. George’s Anglican Church\, 23500 Dewdney Trunk Road\, Maple Ridge\, BC\, V2X 3L8\, Canada
END:VEVENT
BEGIN:VEVENT
DTSTART;TZID=America/Vancouver:20250910T100000
DTEND;TZID=America/Vancouver:20250910T120000
DTSTAMP:20260421T102654
CREATED:20250904T023134Z
LAST-MODIFIED:20250904T023134Z
UID:6986-1757498400-1757505600@rmqg.ca
SUMMARY:Zoom Wednesday
DESCRIPTION:
URL:https://rmqg.ca/event/zoom-wednesday-2/
END:VEVENT
BEGIN:VEVENT
DTSTART;TZID=America/Vancouver:20250911T093000
DTEND;TZID=America/Vancouver:20250911T160000
DTSTAMP:20260421T102654
CREATED:20250901T035707Z
LAST-MODIFIED:20250901T035707Z
UID:6973-1757583000-1757606400@rmqg.ca
SUMMARY:Fraserview Fireside Sew Day
DESCRIPTION:
URL:https://rmqg.ca/event/fraserview-fireside-sew-day/
END:VEVENT
BEGIN:VEVENT
DTSTART;TZID=America/Vancouver:20250913T100000
DTEND;TZID=America/Vancouver:20250913T120000
DTSTAMP:20260421T102654
CREATED:20250904T023235Z
LAST-MODIFIED:20250904T023235Z
UID:6990-1757757600-1757764800@rmqg.ca
SUMMARY:Zoom Saturday
DESCRIPTION:
URL:https://rmqg.ca/event/zoom-saturday/
END:VEVENT
BEGIN:VEVENT
DTSTART;TZID=America/Vancouver:20250916T135000
DTEND;TZID=America/Vancouver:20250919T130000
DTSTAMP:20260421T102654
CREATED:20250901T015329Z
LAST-MODIFIED:20250901T015329Z
UID:6950-1758030600-1758286800@rmqg.ca
SUMMARY:Loon Lake September 16-19 Retreat
DESCRIPTION:
URL:https://rmqg.ca/event/loon-lake-september-16-19-retreat/
END:VEVENT
BEGIN:VEVENT
DTSTART;TZID=America/Vancouver:20250920T100000
DTEND;TZID=America/Vancouver:20250920T120000
DTSTAMP:20260421T102654
CREATED:20250904T023302Z
LAST-MODIFIED:20250904T023302Z
UID:6992-1758362400-1758369600@rmqg.ca
SUMMARY:Zoom Saturday
DESCRIPTION:
URL:https://rmqg.ca/event/zoom-saturday-2/
END:VEVENT
BEGIN:VEVENT
DTSTART;TZID=America/Vancouver:20250924T100000
DTEND;TZID=America/Vancouver:20250924T120000
DTSTAMP:20260421T102654
CREATED:20250904T023209Z
LAST-MODIFIED:20250904T023209Z
UID:6988-1758708000-1758715200@rmqg.ca
SUMMARY:Zoom Wednesday
DESCRIPTION:
URL:https://rmqg.ca/event/zoom-wednesday-3/
END:VEVENT
BEGIN:VEVENT
DTSTART;TZID=America/Vancouver:20250926T100000
DTEND;TZID=America/Vancouver:20250927T160000
DTSTAMP:20260421T102654
CREATED:20250904T023958Z
LAST-MODIFIED:20250904T024031Z
UID:6997-1758880800-1758988800@rmqg.ca
SUMMARY:Vernon's Quilt Guild 2025 Quilt Show
DESCRIPTION:
URL:https://rmqg.ca/event/6997/
END:VEVENT
BEGIN:VEVENT
DTSTART;TZID=America/Vancouver:20250927T104500
DTEND;TZID=America/Vancouver:20250927T160000
DTSTAMP:20260421T102654
CREATED:20250901T020118Z
LAST-MODIFIED:20250901T040059Z
UID:6952-1758969900-1758988800@rmqg.ca
SUMMARY:Albion Sew Day
DESCRIPTION:
URL:https://rmqg.ca/event/albion-sew-day-6/
END:VEVENT
END:VCALENDAR