BEGIN:VCALENDAR
VERSION:2.0
PRODID:-//Ridge Meadows Quilters&#039; Guild - ECPv6.15.13//NONSGML v1.0//EN
CALSCALE:GREGORIAN
METHOD:PUBLISH
X-ORIGINAL-URL:https://rmqg.ca
X-WR-CALDESC:Events for Ridge Meadows Quilters&#039; Guild
REFRESH-INTERVAL;VALUE=DURATION:PT1H
X-Robots-Tag:noindex
X-PUBLISHED-TTL:PT1H
BEGIN:VTIMEZONE
TZID:America/Vancouver
BEGIN:DAYLIGHT
TZOFFSETFROM:-0800
TZOFFSETTO:-0700
TZNAME:PDT
DTSTART:20240310T100000
END:DAYLIGHT
BEGIN:STANDARD
TZOFFSETFROM:-0700
TZOFFSETTO:-0800
TZNAME:PST
DTSTART:20241103T090000
END:STANDARD
BEGIN:DAYLIGHT
TZOFFSETFROM:-0800
TZOFFSETTO:-0700
TZNAME:PDT
DTSTART:20250309T100000
END:DAYLIGHT
BEGIN:STANDARD
TZOFFSETFROM:-0700
TZOFFSETTO:-0800
TZNAME:PST
DTSTART:20251102T090000
END:STANDARD
BEGIN:DAYLIGHT
TZOFFSETFROM:-0800
TZOFFSETTO:-0700
TZNAME:PDT
DTSTART:20260308T100000
END:DAYLIGHT
BEGIN:STANDARD
TZOFFSETFROM:-0700
TZOFFSETTO:-0800
TZNAME:PST
DTSTART:20261101T090000
END:STANDARD
END:VTIMEZONE
BEGIN:VEVENT
DTSTART;TZID=America/Vancouver:20251009T093000
DTEND;TZID=America/Vancouver:20251009T160000
DTSTAMP:20260421T084425
CREATED:20250901T035742Z
LAST-MODIFIED:20250901T035742Z
UID:6975-1760002200-1760025600@rmqg.ca
SUMMARY:Fraserview Fireside Sew Day
DESCRIPTION:
URL:https://rmqg.ca/event/fraserview-fireside-sew-day-2/
END:VEVENT
BEGIN:VEVENT
DTSTART;TZID=America/Vancouver:20251018T104500
DTEND;TZID=America/Vancouver:20251018T160000
DTSTAMP:20260421T084425
CREATED:20250901T020225Z
LAST-MODIFIED:20250901T040037Z
UID:6954-1760784300-1760803200@rmqg.ca
SUMMARY:Albion Sew Day
DESCRIPTION:
URL:https://rmqg.ca/event/albion-sew-day-7/
END:VEVENT
END:VCALENDAR