BEGIN:VCALENDAR
VERSION:2.0
PRODID:-//Ridge Meadows Quilters&#039; Guild - ECPv6.15.13//NONSGML v1.0//EN
CALSCALE:GREGORIAN
METHOD:PUBLISH
X-WR-CALNAME:Ridge Meadows Quilters&#039; Guild
X-ORIGINAL-URL:https://rmqg.ca
X-WR-CALDESC:Events for Ridge Meadows Quilters&#039; Guild
REFRESH-INTERVAL;VALUE=DURATION:PT1H
X-Robots-Tag:noindex
X-PUBLISHED-TTL:PT1H
BEGIN:VTIMEZONE
TZID:America/Vancouver
BEGIN:DAYLIGHT
TZOFFSETFROM:-0800
TZOFFSETTO:-0700
TZNAME:PDT
DTSTART:20250309T100000
END:DAYLIGHT
BEGIN:STANDARD
TZOFFSETFROM:-0700
TZOFFSETTO:-0800
TZNAME:PST
DTSTART:20251102T090000
END:STANDARD
BEGIN:DAYLIGHT
TZOFFSETFROM:-0800
TZOFFSETTO:-0700
TZNAME:PDT
DTSTART:20260308T100000
END:DAYLIGHT
BEGIN:STANDARD
TZOFFSETFROM:-0700
TZOFFSETTO:-0800
TZNAME:PST
DTSTART:20261101T090000
END:STANDARD
BEGIN:DAYLIGHT
TZOFFSETFROM:-0800
TZOFFSETTO:-0700
TZNAME:PDT
DTSTART:20270314T100000
END:DAYLIGHT
BEGIN:STANDARD
TZOFFSETFROM:-0700
TZOFFSETTO:-0800
TZNAME:PST
DTSTART:20271107T090000
END:STANDARD
END:VTIMEZONE
BEGIN:VEVENT
DTSTART;TZID=America/Vancouver:20260103T100000
DTEND;TZID=America/Vancouver:20260103T120000
DTSTAMP:20260421T035459
CREATED:20251223T194340Z
LAST-MODIFIED:20251223T194340Z
UID:7034-1767434400-1767441600@rmqg.ca
SUMMARY:Zoom Sit & Stitch
DESCRIPTION:
URL:https://rmqg.ca/event/zoom-sit-stitch/
END:VEVENT
BEGIN:VEVENT
DTSTART;TZID=America/Vancouver:20260107T100000
DTEND;TZID=America/Vancouver:20260107T120000
DTSTAMP:20260421T035459
CREATED:20251223T194435Z
LAST-MODIFIED:20251223T194435Z
UID:7036-1767780000-1767787200@rmqg.ca
SUMMARY:Zoom Sit & Stitch
DESCRIPTION:
URL:https://rmqg.ca/event/zoom-sit-stitch-2/
END:VEVENT
BEGIN:VEVENT
DTSTART;TZID=America/Vancouver:20260113T190000
DTEND;TZID=America/Vancouver:20260113T210000
DTSTAMP:20260421T035459
CREATED:20251105T171006Z
LAST-MODIFIED:20251105T171006Z
UID:7022-1768330800-1768338000@rmqg.ca
SUMMARY:RMQG Zoom Member Meeting
DESCRIPTION:
URL:https://rmqg.ca/event/rmqg-zoom-member-meeting/
END:VEVENT
BEGIN:VEVENT
DTSTART;TZID=America/Vancouver:20260117T121500
DTEND;TZID=America/Vancouver:20260117T170000
DTSTAMP:20260421T035459
CREATED:20251223T195348Z
LAST-MODIFIED:20251223T195348Z
UID:7047-1768652100-1768669200@rmqg.ca
SUMMARY:Albion Sew Days - RMQG Members Only
DESCRIPTION:
URL:https://rmqg.ca/event/albion-sew-days-rmqg-members-only/
END:VEVENT
BEGIN:VEVENT
DTSTART;TZID=America/Vancouver:20260121T100000
DTEND;TZID=America/Vancouver:20260121T120000
DTSTAMP:20260421T035459
CREATED:20251223T194510Z
LAST-MODIFIED:20251223T194510Z
UID:7038-1768989600-1768996800@rmqg.ca
SUMMARY:Zoom Sit & Stitch
DESCRIPTION:
URL:https://rmqg.ca/event/zoom-sit-stitch-3/
END:VEVENT
BEGIN:VEVENT
DTSTART;TZID=America/Vancouver:20260131T100000
DTEND;TZID=America/Vancouver:20260131T120000
DTSTAMP:20260421T035459
CREATED:20251223T194544Z
LAST-MODIFIED:20251223T194544Z
UID:7040-1769853600-1769860800@rmqg.ca
SUMMARY:Zoom Sit & Stitch
DESCRIPTION:
URL:https://rmqg.ca/event/zoom-sit-stitch-4/
END:VEVENT
END:VCALENDAR