BEGIN:VCALENDAR
VERSION:2.0
PRODID:-//Ridge Meadows Quilters&#039; Guild - ECPv6.15.13//NONSGML v1.0//EN
CALSCALE:GREGORIAN
METHOD:PUBLISH
X-ORIGINAL-URL:https://rmqg.ca
X-WR-CALDESC:Events for Ridge Meadows Quilters&#039; Guild
REFRESH-INTERVAL;VALUE=DURATION:PT1H
X-Robots-Tag:noindex
X-PUBLISHED-TTL:PT1H
BEGIN:VTIMEZONE
TZID:America/Vancouver
BEGIN:DAYLIGHT
TZOFFSETFROM:-0800
TZOFFSETTO:-0700
TZNAME:PDT
DTSTART:20250309T100000
END:DAYLIGHT
BEGIN:STANDARD
TZOFFSETFROM:-0700
TZOFFSETTO:-0800
TZNAME:PST
DTSTART:20251102T090000
END:STANDARD
BEGIN:DAYLIGHT
TZOFFSETFROM:-0800
TZOFFSETTO:-0700
TZNAME:PDT
DTSTART:20260308T100000
END:DAYLIGHT
BEGIN:STANDARD
TZOFFSETFROM:-0700
TZOFFSETTO:-0800
TZNAME:PST
DTSTART:20261101T090000
END:STANDARD
BEGIN:DAYLIGHT
TZOFFSETFROM:-0800
TZOFFSETTO:-0700
TZNAME:PDT
DTSTART:20270314T100000
END:DAYLIGHT
BEGIN:STANDARD
TZOFFSETFROM:-0700
TZOFFSETTO:-0800
TZNAME:PST
DTSTART:20271107T090000
END:STANDARD
END:VTIMEZONE
BEGIN:VEVENT
DTSTART;TZID=America/Vancouver:20260310T190000
DTEND;TZID=America/Vancouver:20260310T210000
DTSTAMP:20260419T060038
CREATED:20260214T212703Z
LAST-MODIFIED:20260214T212703Z
UID:7066-1773169200-1773176400@rmqg.ca
SUMMARY:RMQG General Meeting
DESCRIPTION:
URL:https://rmqg.ca/event/rmqg-general-meeting/
END:VEVENT
BEGIN:VEVENT
DTSTART;TZID=America/Vancouver:20260312T093000
DTEND;TZID=America/Vancouver:20260312T160000
DTSTAMP:20260419T060038
CREATED:20260214T211349Z
LAST-MODIFIED:20260214T211349Z
UID:7054-1773307800-1773331200@rmqg.ca
SUMMARY:Fraserview Fireside Sew Days
DESCRIPTION:
URL:https://rmqg.ca/event/fraserview-fireside-sew-days/
END:VEVENT
BEGIN:VEVENT
DTSTART;TZID=America/Vancouver:20260321T104500
DTEND;TZID=America/Vancouver:20260321T160000
DTSTAMP:20260419T060038
CREATED:20251223T195517Z
LAST-MODIFIED:20251223T195517Z
UID:7051-1774089900-1774108800@rmqg.ca
SUMMARY:Albion Sew Day - RMQG Members Only
DESCRIPTION:
URL:https://rmqg.ca/event/albion-sew-day-rmqg-members-only-2/
END:VEVENT
END:VCALENDAR